Workbook
Name solver_cvg: 0.0001
Name solver_cvg: 0.0001
Name solver_drv: 1
Name solver_drv: 1
Name solver_est: 1
Name solver_est: 1
Name solver_itr: 100
Name solver_itr: 100
Name solver_lin: 2
Name solver_lin: 2
Name solver_neg: 2
Name solver_neg: 2
Name solver_num: 0
Name solver_num: 0
Name solver_nwt: 1
Name solver_nwt: 1
Name solver_pre: 0.000001
Name solver_pre: 0.000001
Name solver_scl: 2
Name solver_scl: 2
Name solver_sho: 2
Name solver_sho: 2
Name solver_tim: 100
Name solver_tim: 100
Name solver_tol: 0.05
Name solver_tol: 0.05
Name solver_typ: 1
Name solver_typ: 1
Name solver_val: 0
Name solver_val: 0
Name solver_opt: 'HelpDesk Data - 1'!$A$1
Name solver_opt: 'HelpDesk Data'!$A$1

Sheet Index Sheet
C3: Sheet Index
C4: Sl. No. | D4: Sheet Name
C5: 'AND - OR - NOT'!A1 | D5: AND - OR - NOT
C6: 'COUNT - COUNTA - COUNTBLANK'!A1 | D6: COUNT - COUNTA - COUNTBLANK
C7: 'COUNTIF'!A1 | D7: COUNTIF
C8: 'MAX - MIN'!A1 | D8: MAX - MIN
C9: 'LARGE - SMALL'!A1 | D9: LARGE - SMALL
C10: 'UPPER - LOWER - PROPER'!A1 | D10: UPPER - LOWER - PROPER
C11: 'RIGHT'!A1 | D11: RIGHT
C12: 'LEFT'!A1 | D12: LEFT
C13: 'MID'!A1 | D13: MID
C14: 'POWER'!A1 | D14: POWER
C15: 'SUM - SUMIF'!A1 | D15: SUM - SUMIF
... C33: 'OFFSET'!A1 | D33: OFFSET

Sheet AND - OR - NOT
B2: AND | H2: Students | I2: E | J2: H | K2: M
B3: TRUE | C3: All conditions are true | F3: =AND(2<5,8=8,4/2=2) -> TRUE | H3: A | I3: 88 | J3: 88 | K3: 97 | L3: =AND(I3>90,J3>90,K3>90) -> FALSE | M3: =OR(I3>90,J3>90,K3>90) -> TRUE
B4: FALSE | C4: Any of the conditions are false | F4: =AND(2<5,8>8,4/2=2) -> FALSE | H4: B | I4: 56 | J4: 78 | K4: 99 | L4: =AND(I4>90,J4>90,K4>90) -> FALSE | M4: =OR(I4>90,J4>90,K4>90) -> TRUE
H5: C | I5: 92 | J5: 98 | K5: 91 | L5: =AND(I5>90,J5>90,K5>90) -> TRUE | M5: =OR(I5>90,J5>90,K5>90) -> TRUE
B6: OR | H6: D | I6: 55 | J6: 57 | K6: 55 | L6: =AND(I6>90,J6>90,K6>90) -> FALSE | M6: =OR(I6>90,J6>90,K6>90) -> FALSE
B7: TRUE | C7: Any of the conditions are true | F7: =OR(2<5,8>8,4/2=2) -> TRUE | I7: =NOT(I3>90) -> TRUE
B8: FALSE | C8: All the conditions are False | F8: =OR(2>5,8>8,4/2<2) -> FALSE
J9: TRUE | K9: FALSE
B10: NOT | I10: AND | J10: ALL TRUE | K10: ANY FALSE
B11: TRUE | C11: Condition is False | F11: =NOT(5>5) -> TRUE | I11: OR | J11: ANY TRUE | K11: ALL FALSE
B12: FALSE | C12: Condition is True | F12: =NOT(5=5) -> FALSE

Sheet COUNT - COUNTA - COUNTBLANK
A1: Items
A2: Amarjeet Singh | C2: COUNT | D2: Count numbers in a range | G2: =COUNT(A2:A13) -> 5
A3: Mohit Malik
A4: Gaurav Khanna | C4: COUNTA | D4: Count non blank cells in a range | G4: =COUNTA(A2:A13) -> 11
A5: Praveen Sharma
A6: Anoop Kumar Singh | C6: COUNTBLANK | D6: Count blank cells in a range | G6: =COUNTBLANK(A2:A13) -> 1
A7: Mukesh Jaswal
A8: 1
A9: 2 | F9: =COUNTA(A2:A13)-COUNT(A2:A13) -> 6
A10: 5
A12: 9
A13: 48

Sheet COUNTIF
A1: Date | B1: Customer | C1: Transaction | D1: Item | E1: Units
A2: 39066 | B2: Howard | C2: Purchase | D2: Cake | E2: 7 | G2: Count of Customer Jones | H2: =COUNTIF(B:B,"jones") -> 6 | J2: coke | K2: =COUNTIF(D:D,J2) -> 2
A3: 39069 | B3: Kumar Amit Sharma | C3: Sale | D3: Binder | E3: 85 | J3: Pen Set | K3: =COUNTIF(D:D,J3) -> 20
A4: 39072 | B4: Howard | C4: Sale | D4: Pen Set | E4: 62 | G4: Count of Item Pen Set | H4: =COUNTIF(D:D,"pen set") -> 20 | J4: cake | K4: =COUNTIF(D:D,J4) -> 2
A5: 39075 | B5: Gill | C5: Purchase | D5: Pen | E5: 58 | J5: Coke | K5: =COUNTIF(D:D,J5) -> 2
A6: 39078 | B6: Amit | C6: Sale | D6: Binder | E6: 10 | G6: Count of Transaction Purchase | H6: =COUNTIF(C:C,"purchase") -> 24
A7: 39081 | B7: Anderson | C7: Sale | D7: Cake | E7: 24
A8: 39084 | B8: Anderson | C8: Purchase | D8: Pen Set | E8: 6 | G8: Count of Item Pen Set & Binder | H8: =COUNTIF(D:D,"pen set")+COUNTIF(D:D,"binder") -> 37
A9: 39087 | B9: Howard | C9: Purchase | D9: Pen Set | E9: 10
A10: 39090 | B10: Howard | C10: Sale | D10: Pen Set | E10: 39
A11: 39093 | B11: JONES | C11: Sale | D11: Coke | E11: 1 | H11: =COUNTIFS(B:B,"jones",C:C,"sale") -> 4
A12: 39096 | B12: Amit Sharma | C12: Purchase | D12: Pen Set | E12: 80
A13: 39099 | B13: Howard | C13: Sale | D13: Binder | E13: 51
A14: 39102 | B14: Parent | C14: Purchase | D14: Coke | E14: 10
A15: 39105 | B15: Jones | C15: Sale | D15: Pen Set | E15: 15
A16: 39108 | B16: Anderson | C16: Purchase | D16: Desk | E16: 31
A17: 39111 | B17: Jones | C17: Purchase | D17: Pen Set | E17: 46
A18: 39114 | B18: Kivell | C18: Purchase | D18: Binder | E18: 61
A19: 39117 | B19: JONES | C19: Sale | D19: Pen | E19: 90
A20: 39120 | B20: Parent | C20: Sale | D20: Pen | E20: 40
A21: 39123 | B21: Kivell | C21: Sale | D21: Pen Set | E21: 32
A22: 39126 | B22: Smith | C22: Purchase | D22: Pen Set | E22: 37
A23: 39129 | B23: Parent | C23: Purchase | D23: Pen Set | E23: 26
... A50: 39210 | B50: Gill | C50: Sale | D50: Binder | E50: 19

Sheet MAX - MIN
A1: Agent Name | B1: Calls
A2: Amarjeet Singh | B2: 38
A3: Sachin Kumar Sharma | B3: 45 | E3: Max Calls | F3: =MAX(B:B) -> 199 | G3: =LARGE(B:B,1) -> 199
A4: Mohit Malik | B4: 47 | E4: Min Calls | F4: =MIN(B:B) -> 1
A5: Deepak Sharma | B5: 54
A6: Kratika Bhatnagar | B6: 56
A7: Gaurav Khanna | B7: 65
A8: Asif Khan | B8: 54
A9: Kratika Bhatnagar | B9: 53
A10: Deepak Sharma | B10: 50
A11: Praveen Sharma | B11: 12
A12: Ravi Ranjan | B12: 3
A13: Vivek Pant | B13: 67
A14: Pallavi Srivastava | B14: 25
A15: Anoop Kumar Singh | B15: 61
A16: Shivam Kumar Gupta | B16: 42
... A113: Sukhdev | B113: 34

Sheet LARGE - SMALL
A1: Item | B1: Unit Cost
A2: Alice Mutton | B2: 21.97 | D2: Top 5 Price | G2: Least 5 Price
A3: Aniseed Syrup | B3: 5.24 | D3: 1 | E3: =LARGE($B$2:$B$41,D3) -> 275 | G3: 1 | H3: =SMALL($B$2:$B$41,G3) -> 1.22
A4: Boston Crab Meat | B4: 1.22 | D4: 2 | E4: =LARGE($B$2:$B$41,D4) -> 125 | G4: 2 | H4: =SMALL($B$2:$B$41,G4) -> 1.24
A5: Carnarvon Tigers | B5: 54.12 | D5: 3 | E5: =LARGE($B$2:$B$41,D5) -> 79 | G5: 3 | H5: =SMALL($B$2:$B$41,G5) -> 1.27
A6: Chai | B6: 1.91 | D6: 4 | E6: =LARGE($B$2:$B$41,D6) -> 54.12 | G6: 4 | H6: =SMALL($B$2:$B$41,G6) -> 1.29
A7: Chang | B7: 4.12 | D7: 5 | E7: =LARGE($B$2:$B$41,D7) -> 35.47 | G7: 5 | H7: =SMALL($B$2:$B$41,G7) -> 1.91
A8: Chartreuse verte | B8: 19.99
A9: Chef Anton's Cajun Seasoning | B9: 4.79
A10: Chef Anton's Gumbo Mix | B10: 35.47 | D10: =LARGE(B:B,3) -> 79
A11: Côte de Blaye | B11: 5.47 | D11: =SMALL(B:B,4) -> 1.29
A12: Geitost | B12: 5.4
A13: Genen Shouyu | B13: 79
A14: Gorgonzola Telino | B14: 2.15
A15: Grandma's Boysenberry Spread | B15: 2.99
A16: Gravad lax | B16: 1.24
A17: Guaraná Fantástica | B17: 15
A18: Gumbär Gummibärchen | B18: 12.74
A19: Gustaf's Knäckebröd | B19: 15.99
A20: Ikura | B20: 16.54
A21: Inlagd Sill | B21: 275
A22: Konbu | B22: 3.78
A23: Mascarpone Fabioli | B23: 125
... A41: Uncle Bob's Organic Dried Pears | B41: 1.92

Sheet UPPER - LOWER - PROPER
A1: Names | B1: UPPER CASE | C1: lower case | D1: Proper Case
A2: amarJEET SINGH | B2: =UPPER(A2) -> AMARJEET SINGH | C2: =LOWER(A2) -> amarjeet singh | D2: =PROPER(A2) -> Amarjeet Singh
A3: SACHIN KUMAR GUPTA | B3: =UPPER(A3) -> SACHIN KUMAR GUPTA | C3: =LOWER(A3) -> sachin kumar gupta | D3: =PROPER(A3) -> Sachin Kumar Gupta
A4: Mohit Malik | B4: =UPPER(A4) -> MOHIT MALIK | C4: =LOWER(A4) -> mohit malik | D4: =PROPER(A4) -> Mohit Malik
A5: deepal kumar | B5: =UPPER(A5) -> DEEPAL KUMAR | C5: =LOWER(A5) -> deepal kumar | D5: =PROPER(A5) -> Deepal Kumar
A6: Kratika Bhatnagar | B6: =UPPER(A6) -> KRATIKA BHATNAGAR | C6: =LOWER(A6) -> kratika bhatnagar | D6: =PROPER(A6) -> Kratika Bhatnagar | H6: i am here | J6: =CONCATENATE(UPPER(LEFT(H6,1)),LOWER(RIGHT(H6,LEN(H6)-1))) -> I am here
A7: Gaurav KHANNA | B7: =UPPER(A7) -> GAURAV KHANNA | C7: =LOWER(A7) -> gaurav khanna | D7: =PROPER(A7) -> Gaurav Khanna
A8: ASIF KHAN | B8: =UPPER(A8) -> ASIF KHAN | C8: =LOWER(A8) -> asif khan | D8: =PROPER(A8) -> Asif Khan
A9: Ajaj Kumar Rana | B9: =UPPER(A9) -> AJAJ KUMAR RANA | C9: =LOWER(A9) -> ajaj kumar rana | D9: =PROPER(A9) -> Ajaj Kumar Rana
A10: Aakash Bhutani | B10: =UPPER(A10) -> AAKASH BHUTANI | C10: =LOWER(A10) -> aakash bhutani | D10: =PROPER(A10) -> Aakash Bhutani
A11: PRAVEEN sharma | B11: =UPPER(A11) -> PRAVEEN SHARMA | C11: =LOWER(A11) -> praveen sharma | D11: =PROPER(A11) -> Praveen Sharma
A12: ravi ranjan | B12: =UPPER(A12) -> RAVI RANJAN | C12: =LOWER(A12) -> ravi ranjan | D12: =PROPER(A12) -> Ravi Ranjan
A13: Vivek Pant | B13: =UPPER(A13) -> VIVEK PANT | C13: =LOWER(A13) -> vivek pant | D13: =PROPER(A13) -> Vivek Pant
A14: Pallavi Srivastava | B14: =UPPER(A14) -> PALLAVI SRIVASTAVA | C14: =LOWER(A14) -> pallavi srivastava | D14: =PROPER(A14) -> Pallavi Srivastava
A15: Anoop Kumar Singh | B15: =UPPER(A15) -> ANOOP KUMAR SINGH | C15: =LOWER(A15) -> anoop kumar singh | D15: =PROPER(A15) -> Anoop Kumar Singh
A16: Shivam Kumar Gupta | B16: =UPPER(A16) -> SHIVAM KUMAR GUPTA | C16: =LOWER(A16) -> shivam kumar gupta | D16: =PROPER(A16) -> Shivam Kumar Gupta
A17: AKHil gUPta | B17: =UPPER(A17) -> AKHIL GUPTA | C17: =LOWER(A17) -> akhil gupta | D17: =PROPER(A17) -> Akhil Gupta
A18: Yatish Kumar | B18: =UPPER(A18) -> YATISH KUMAR | C18: =LOWER(A18) -> yatish kumar | D18: =PROPER(A18) -> Yatish Kumar
... A24: Rahul Aggarwal | B24: =UPPER(A24) -> RAHUL AGGARWAL | C24: =LOWER(A24) -> rahul aggarwal | D24: =PROPER(A24) -> Rahul Aggarwal

Sheet RIGHT
A1: Product | B1: Product Code | C1: Product ID
A2: Chai | B2: A1BGH-468 | C2: =RIGHT(B2,3) -> 468
A3: Chang | B3: WW4EG-596 | C3: =RIGHT(B3,3) -> 596
A4: Aniseed Syrup | B4: DDEE-715 | C4: =RIGHT(B4,3) -> 715 | G4: ABC-DEF | H4: =LEFT(G4,SEARCH("-",G4)-1) -> ABC | I4: =RIGHT(G4,LEN(G4)-SEARCH("-",G4)) -> DEF
A5: Chef Anton's Cajun Seasoning | B5: DF1F4FG-683 | C5: =RIGHT(B5,3) -> 683 | G5: ABCDE-RT | H5: =LEFT(G5,SEARCH("-",G5)-1) -> ABCDE | I5: =RIGHT(G5,LEN(G5)-SEARCH("-",G5)) -> RT
A6: Chef Anton's Gumbo Mix | B6: ERERDE4-673 | C6: =RIGHT(B6,3) -> 673 | G6: AB-YU6YUV | H6: =LEFT(G6,SEARCH("-",G6)-1) -> AB | I6: =RIGHT(G6,LEN(G6)-SEARCH("-",G6)) -> YU6YUV
A7: Grandma's Boysenberry Spread | B7: 2GG2TW-591 | C7: =RIGHT(B7,3) -> 591 | G7: ABC-DEFGGHGGG-HIJ | H7: =LEFT(G7,SEARCH("-",G7)-1) -> ABC | I7: =LEFT(RIGHT(G7,LEN(G7)-SEARCH("-",G7)),SEARCH("-",RIGHT(G7,LEN(G7)-SEARCH("-",G7)))-1) -> DEFGGHGGG | J7: =RIGHT(RIGHT(G7,LEN(G7)-SEARCH("-",G7)),LEN(RIGHT(G7,LEN(G7)-SEARCH("-",G7)))-SEARCH("-",RIGHT(G7,LEN(G7)-SEARCH("-",G7)))) -> HIJ
A8: Uncle Bob's Organic Dried Pears | B8: EHDHD4GG-283 | C8: =RIGHT(B8,3) -> 283
A9: Northwoods Cranberry Sauce | B9: IFJFUF1-283 | C9: =RIGHT(B9,3) -> 283
A10: Mishi Kobe Niku | B10: DDDG1-630 | C10: =RIGHT(B10,3) -> 630
A11: Ikura | B11: DE14-569 | C11: =RIGHT(B11,3) -> 569
A12: Queso Cabrales | B12: 84E-702 | C12: =RIGHT(B12,3) -> 702
A13: Queso Manchego La Pastora | B13: 1VF-737 | C13: =RIGHT(B13,3) -> 737 | I13: =RIGHT(G7,LEN(G7)-SEARCH("-",G7)) -> DEFGGHGGG-HIJ
A14: Konbu | B14: W12-652 | C14: =RIGHT(B14,3) -> 652
A15: Tofu | B15: OI71-291 | C15: =RIGHT(B15,3) -> 291
A16: Genen Shouyu | B16: WEWDSR4-855 | C16: =RIGHT(B16,3) -> 855
A17: Pavlova | B17: FUFNFH2-711 | C17: =RIGHT(B17,3) -> 711
A18: Alice Mutton | B18: 22QA3QH-548 | C18: =RIGHT(B18,3) -> 548
A19: Carnarvon Tigers | B19: ERDTD7-860 | C19: =RIGHT(B19,3) -> 860
A20: Teatime Chocolate Biscuits | B20: NFHF45-479 | C20: =RIGHT(B20,3) -> 479
A21: Sir Rodney's Marmalade | B21: LDJDUD44-807 | C21: =RIGHT(B21,3) -> 807
A22: Sir Rodney's Scones | B22: D4D84X-639 | C22: =RIGHT(B22,3) -> 639
A23: Gustaf's Knäckebröd | B23: DSCSFS-800 | C23: =RIGHT(B23,3) -> 800
A24: Tunnbröd | B24: ETE5E7E-285 | C24: =RIGHT(B24,3) -> 285
A25: Guaraná Fantástica | B25: UVJGFGUY4-477 | C25: =RIGHT(B25,3) -> 477
... A78: Original Frankfurter grüne Soße | B78: BETTEG-644 | C78: =RIGHT(B78,3) -> 644

Sheet LEFT
A1: Product | B1: Product Code | C1: Product ID
A2: Chai | B2: 466#A1BGH | C2: =LEFT(B2,3) -> 466
A3: Chang | B3: 596#WW4EG | C3: =LEFT(B3,3) -> 596 | G3: 466#A1BGH | H3: =LEFT(G3,SEARCH("#",G3)-1) -> 466 | I3: =RIGHT(G3,LEN(G3)-SEARCH("#",G3)) -> A1BGH
A4: Aniseed Syrup | B4: 715#DDEE | C4: =LEFT(B4,3) -> 715 | G4: 596#WW4EG | H4: =LEFT(G4,SEARCH("#",G4)-1) -> 596 | I4: =RIGHT(G4,LEN(G4)-SEARCH("#",G4)) -> WW4EG
A5: Chef Anton's Cajun Seasoning | B5: 683#DF1F4FG | C5: =LEFT(B5,3) -> 683 | G5: 7153#DDEE | H5: =LEFT(G5,SEARCH("#",G5)-1) -> 7153 | I5: =RIGHT(G5,LEN(G5)-SEARCH("#",G5)) -> DDEE
A6: Chef Anton's Gumbo Mix | B6: 673#ERERDE4 | C6: =LEFT(B6,3) -> 673 | G6: 683334#DF1F4FG | H6: =LEFT(G6,SEARCH("#",G6)-1) -> 683334 | I6: =RIGHT(G6,LEN(G6)-SEARCH("#",G6)) -> DF1F4FG
A7: Grandma's Boysenberry Spread | B7: 591#2GG2TW | C7: =LEFT(B7,3) -> 591 | G7: 673#ERERDE4 | H7: =LEFT(G7,SEARCH("#",G7)-1) -> 673 | I7: =RIGHT(G7,LEN(G7)-SEARCH("#",G7)) -> ERERDE4
A8: Uncle Bob's Organic Dried Pears | B8: 283#EHDHD4GG | C8: =LEFT(B8,3) -> 283
A9: Northwoods Cranberry Sauce | B9: 283#IFJFUF1 | C9: =LEFT(B9,3) -> 283
A10: Mishi Kobe Niku | B10: 630#DDDG1 | C10: =LEFT(B10,3) -> 630
A11: Ikura | B11: 569#DE14 | C11: =LEFT(B11,3) -> 569 | G11: Amit Sharma | H11: =LEFT(G11,SEARCH(" ",G11)-1) -> Amit | I11: =RIGHT(G11,LEN(G11)-SEARCH(" ",G11)) -> Sharma
A12: Queso Cabrales | B12: 702#84E | C12: =LEFT(B12,3) -> 702 | G12: Rajeev Gupta | H12: =LEFT(G12,SEARCH(" ",G12)-1) -> Rajeev | I12: =RIGHT(G12,LEN(G12)-SEARCH(" ",G12)) -> Gupta
A13: Queso Manchego La Pastora | B13: 737#1VF | C13: =LEFT(B13,3) -> 737
A14: Konbu | B14: 652#W12 | C14: =LEFT(B14,3) -> 652
A15: Tofu | B15: 291#OI71 | C15: =LEFT(B15,3) -> 291
A16: Genen Shouyu | B16: 855#WEWDSR4 | C16: =LEFT(B16,3) -> 855
A17: Pavlova | B17: 711#FUFNFH2 | C17: =LEFT(B17,3) -> 711
A18: Alice Mutton | B18: 548#22QA3QH | C18: =LEFT(B18,3) -> 548
A19: Carnarvon Tigers | B19: 860#ERDTD7 | C19: =LEFT(B19,3) -> 860
A20: Teatime Chocolate Biscuits | B20: 479#NFHF45 | C20: =LEFT(B20,3) -> 479
A21: Sir Rodney's Marmalade | B21: 807#LDJDUD44 | C21: =LEFT(B21,3) -> 807
A22: Sir Rodney's Scones | B22: 639#D4D84X | C22: =LEFT(B22,3) -> 639
A23: Gustaf's Knäckebröd | B23: 800#DSCSFS | C23: =LEFT(B23,3) -> 800
A24: Tunnbröd | B24: 285#ETE5E7E | C24: =LEFT(B24,3) -> 285
... A78: Original Frankfurter grüne Soße | B78: 644#BETTEG | C78: =LEFT(B78,3) -> 644

Sheet MID
A1: Product | B1: Product Code | C1: Product ID
A2: Chai | B2: DDF-463-A1B | C2: =MID(B2,5,3) -> 463 | F2: Amit Kumar | G2: =LEFT(F2,SEARCH(" ",F2)-1) -> Amit | H2: =RIGHT(F2,LEN(F2)-SEARCH(" ",F2)) -> Kumar | I2: =LEN(F2)-SEARCH(" ",F2) -> 5
A3: Chang | B3: RTF-596-WW4 | C3: =MID(B3,5,3) -> 596 | F3: Sachin Sharma | G3: =LEFT(F3,SEARCH(" ",F3)-1) -> Sachin | H3: =RIGHT(F3,LEN(F3)-SEARCH(" ",F3)) -> Sharma
A4: Aniseed Syrup | B4: UTY-715-DDE | C4: =MID(B4,5,3) -> 715 | F4: Amit Kumar Sharma | G4: =LEFT(F4,SEARCH(" ",F4)-1) -> Amit | H4: =LEFT(RIGHT(F4,LEN(F4)-SEARCH(" ",F4)),SEARCH(" ",RIGHT(F4,LEN(F4)-SEARCH(" ",F4)))-1) -> Kumar | I4: =RIGHT(RIGHT(F4,LEN(F4)-SEARCH(" ",F4)),LEN(RIGHT(F4,LEN(F4)-SEARCH(" ",F4)))-SEARCH(" ",RIGHT(F4,LEN(F4)-SEARCH(" ",F4)))) -> Sharma
A5: Chef Anton's Cajun Seasoning | B5: HFB-683-DF1 | C5: =MID(B5,5,3) -> 683
A6: Chef Anton's Gumbo Mix | B6: HFG-673-ERE | C6: =MID(B6,5,3) -> 673
A7: Grandma's Boysenberry Spread | B7: EWS-591-2GG | C7: =MID(B7,5,3) -> 591
A8: Uncle Bob's Organic Dried Pears | B8: KB1-283-EHD | C8: =MID(B8,5,3) -> 283
A9: Northwoods Cranberry Sauce | B9: Y5Y-283-IFJ | C9: =MID(B9,5,3) -> 283
A10: Mishi Kobe Niku | B10: 58G-630-DDD | C10: =MID(B10,5,3) -> 630
A11: Ikura | B11: GF4-569-DE1 | C11: =MID(B11,5,3) -> 569
A12: Queso Cabrales | B12: G4T-702-84E | C12: =MID(B12,5,3) -> 702
A13: Queso Manchego La Pastora | B13: UFG-737-1VF | C13: =MID(B13,5,3) -> 737
A14: Konbu | B14: NDJ-652-W12 | C14: =MID(B14,5,3) -> 652
A15: Tofu | B15: PSL-291-OI7 | C15: =MID(B15,5,3) -> 291
A16: Genen Shouyu | B16: WDW-855-WEW | C16: =MID(B16,5,3) -> 855
... A78: Original Frankfurter grüne Soße | B78: 15F-644-BET | C78: =MID(B78,5,3) -> 644

Sheet LEN
A1: Items | B1: Length | C1: Length
A2: Amarjeet Singh | B2: =LEN(A2) -> 14 | C2: =LEN(SUBSTITUTE(A2," ","")) -> 13
A3: Sachin Kumar Sharma | B3: =LEN(A3) -> 19 | C3: =LEN(SUBSTITUTE(A3," ","")) -> 17
A4: Mohit Malik | B4: =LEN(A4) -> 11 | C4: =LEN(SUBSTITUTE(A4," ","")) -> 10
A5: Deepak Sharma | B5: =LEN(A5) -> 13 | C5: =LEN(SUBSTITUTE(A5," ","")) -> 12 | E5: Amit Sharma | F5: =LEFT(E5,SEARCH(" ",E5)-1) -> Amit | G5: =RIGHT(E5,LEN(E5)-SEARCH(" ",E5)) -> Sharma
A6: Kratika Bhatnagar | B6: =LEN(A6) -> 17 | C6: =LEN(SUBSTITUTE(A6," ","")) -> 16 | E6: Rajeev Gupta | F6: =LEFT(E6,SEARCH(" ",E6)-1) -> Rajeev | G6: =RIGHT(E6,LEN(E6)-SEARCH(" ",E6)) -> Gupta
A7: Gaurav Khanna | B7: =LEN(A7) -> 13 | C7: =LEN(SUBSTITUTE(A7," ","")) -> 12 | E7: Rajeev Kumar Gupta | F7: =LEFT(E7,SEARCH(" ",E7)-1) -> Rajeev | G7: =LEFT(RIGHT(E7,LEN(E7)-SEARCH(" ",E7)),SEARCH(" ",RIGHT(E7,LEN(E7)-SEARCH(" ",E7)))-1) -> Kumar | H7: =RIGHT(RIGHT(E7,LEN(E7)-SEARCH(" ",E7)),LEN(RIGHT(E7,LEN(E7)-SEARCH(" ",E7)))-SEARCH(" ",RIGHT(E7,LEN(E7)-SEARCH(" ",E7)))) -> Gupta
A8: Asif Khan | B8: =LEN(A8) -> 9 | C8: =LEN(SUBSTITUTE(A8," ","")) -> 8 | E8: Ravi Kant Shrivastava | F8: =LEFT(E8,SEARCH(" ",E8)-1) -> Ravi | G8: =LEFT(RIGHT(E8,LEN(E8)-SEARCH(" ",E8)),SEARCH(" ",RIGHT(E8,LEN(E8)-SEARCH(" ",E8)))-1) -> Kant | H8: =RIGHT(RIGHT(E8,LEN(E8)-SEARCH(" ",E8)),LEN(RIGHT(E8,LEN(E8)-SEARCH(" ",E8)))-SEARCH(" ",RIGHT(E8,LEN(E8)-SEARCH(" ",E8)))) -> Shrivastava
A9: Ajaj Kumar Rana | B9: =LEN(A9) -> 15 | C9: =LEN(SUBSTITUTE(A9," ","")) -> 13
A10: Aakash Bhutani | B10: =LEN(A10) -> 14 | C10: =LEN(SUBSTITUTE(A10," ","")) -> 13
A11: Praveen Sharma | B11: =LEN(A11) -> 14 | C11: =LEN(SUBSTITUTE(A11," ","")) -> 13
A12: 9914221578 | B12: =LEN(A12) -> 10 | C12: =LEN(SUBSTITUTE(A12," ","")) -> 10
A13: 77481452 | B13: =LEN(A13) -> 8 | C13: =LEN(SUBSTITUTE(A13," ","")) -> 8
A14: 541142189 | B14: =LEN(A14) -> 9 | C14: =LEN(SUBSTITUTE(A14," ","")) -> 9
A15: 9844157487 | B15: =LEN(A15) -> 10 | C15: =LEN(SUBSTITUTE(A15," ","")) -> 10
A16: A1BGH-463 | B16: =LEN(A16) -> 9 | C16: =LEN(SUBSTITUTE(A16," ","")) -> 9
A17: WW4EG-596 | B17: =LEN(A17) -> 9 | C17: =LEN(SUBSTITUTE(A17," ","")) -> 9
A18: DDEE-715 | B18: =LEN(A18) -> 8 | C18: =LEN(SUBSTITUTE(A18," ","")) -> 8
A19: DF1F4FG-683 | B19: =LEN(A19) -> 11 | C19: =LEN(SUBSTITUTE(A19," ","")) -> 11
A20: ERERDE4-673 | B20: =LEN(A20) -> 11 | C20: =LEN(SUBSTITUTE(A20," ","")) -> 11
A21: 2GG2TW-591 | B21: =LEN(A21) -> 10 | C21: =LEN(SUBSTITUTE(A21," ","")) -> 10
A22: EHDHD4GG-283 | B22: =LEN(A22) -> 12 | C22: =LEN(SUBSTITUTE(A22," ","")) -> 12
A23: IFJFUF1-283 | B23: =LEN(A23) -> 11 | C23: =LEN(SUBSTITUTE(A23," ","")) -> 11
A24: DDDG1-630 | B24: =LEN(A24) -> 9 | C24: =LEN(SUBSTITUTE(A24," ","")) -> 9
A25: DE14-569 | B25: =LEN(A25) -> 8 | C25: =LEN(SUBSTITUTE(A25," ","")) -> 8
A26: 84E-702 | B26: =LEN(A26) -> 7 | C26: =LEN(SUBSTITUTE(A26," ","")) -> 7
A27: 1VF-737 | B27: =LEN(A27) -> 7 | C27: =LEN(SUBSTITUTE(A27," ","")) -> 7
A28: W12-652 | B28: =LEN(A28) -> 7 | C28: =LEN(SUBSTITUTE(A28," ","")) -> 7

Sheet POWER
A1: Number | B1: Square | C1: Cube | D1: Square Root | E1: Cube Root
A2: 1 | B2: =POWER(A2,2) -> 1 | C2: =POWER(A2,3) -> 1 | D2: =POWER(A2,1/2) -> 1 | E2: =POWER(A2,1/3) -> 1
A3: 2 | B3: =POWER(A3,2) -> 4 | C3: =POWER(A3,3) -> 8 | D3: =POWER(A3,1/2) -> 1.4142136 | E3: =POWER(A3,1/3) -> 1.259921
A4: 3 | B4: =POWER(A4,2) -> 9 | C4: =POWER(A4,3) -> 27 | D4: =POWER(A4,1/2) -> 1.7320508 | E4: =POWER(A4,1/3) -> 1.4422496
A5: 4 | B5: =POWER(A5,2) -> 16 | C5: =POWER(A5,3) -> 64 | D5: =POWER(A5,1/2) -> 2 | E5: =POWER(A5,1/3) -> 1.5874011
A6: 5 | B6: =POWER(A6,2) -> 25 | C6: =POWER(A6,3) -> 125 | D6: =POWER(A6,1/2) -> 2.236068 | E6: =POWER(A6,1/3) -> 1.7099759 | G6: =POWER(5,2) -> 25
A7: 6 | B7: =POWER(A7,2) -> 36 | C7: =POWER(A7,3) -> 216 | D7: =POWER(A7,1/2) -> 2.4494897 | E7: =POWER(A7,1/3) -> 1.8171206 | G7: =5^2 -> 25
A8: 7 | B8: =POWER(A8,2) -> 49 | C8: =POWER(A8,3) -> 343 | D8: =POWER(A8,1/2) -> 2.6457513 | E8: =POWER(A8,1/3) -> 1.9129312
A9: 8 | B9: =POWER(A9,2) -> 64 | C9: =POWER(A9,3) -> 512 | D9: =POWER(A9,1/2) -> 2.8284271 | E9: =POWER(A9,1/3) -> 2
A10: 9 | B10: =POWER(A10,2) -> 81 | C10: =POWER(A10,3) -> 729 | D10: =POWER(A10,1/2) -> 3 | E10: =POWER(A10,1/3) -> 2.0800838
A11: 10 | B11: =POWER(A11,2) -> 100 | C11: =POWER(A11,3) -> 1000 | D11: =POWER(A11,1/2) -> 3.1622777 | E11: =POWER(A11,1/3) -> 2.1544347
A12: 11 | B12: =POWER(A12,2) -> 121 | C12: =POWER(A12,3) -> 1331 | D12: =POWER(A12,1/2) -> 3.3166248 | E12: =POWER(A12,1/3) -> 2.2239801
A13: 12 | B13: =POWER(A13,2) -> 144 | C13: =POWER(A13,3) -> 1728 | D13: =POWER(A13,1/2) -> 3.4641016 | E13: =POWER(A13,1/3) -> 2.2894285
A14: 13 | B14: =POWER(A14,2) -> 169 | C14: =POWER(A14,3) -> 2197 | D14: =POWER(A14,1/2) -> 3.6055513 | E14: =POWER(A14,1/3) -> 2.3513347 | H14: =POWER(2,3) -> 8
A15: 14 | B15: =POWER(A15,2) -> 196 | C15: =POWER(A15,3) -> 2744 | D15: =POWER(A15,1/2) -> 3.7416574 | E15: =POWER(A15,1/3) -> 2.4101423 | H15: =2^3 -> 8
A16: 15 | B16: =POWER(A16,2) -> 225 | C16: =POWER(A16,3) -> 3375 | D16: =POWER(A16,1/2) -> 3.8729833 | E16: =POWER(A16,1/3) -> 2.4662121
A17: 16 | B17: =POWER(A17,2) -> 256 | C17: =POWER(A17,3) -> 4096 | D17: =POWER(A17,1/2) -> 4 | E17: =POWER(A17,1/3) -> 2.5198421
A18: 17 | B18: =POWER(A18,2) -> 289 | C18: =POWER(A18,3) -> 4913 | D18: =POWER(A18,1/2) -> 4.1231056 | E18: =POWER(A18,1/3) -> 2.5712816
A19: 18 | B19: =POWER(A19,2) -> 324 | C19: =POWER(A19,3) -> 5832 | D19: =POWER(A19,1/2) -> 4.2426407 | E19: =POWER(A19,1/3) -> 2.6207414
A20: 19 | B20: =POWER(A20,2) -> 361 | C20: =POWER(A20,3) -> 6859 | D20: =POWER(A20,1/2) -> 4.3588989 | E20: =POWER(A20,1/3) -> 2.6684016
A21: 20 | B21: =POWER(A21,2) -> 400 | C21: =POWER(A21,3) -> 8000 | D21: =POWER(A21,1/2) -> 4.472136 | E21: =POWER(A21,1/3) -> 2.7144176

Sheet SUM - SUMIF
A1: Date | B1: Customer | C1: Trans | D1: Item | E1: Units | F1: Unit Cost | G1: Total
A2: 39066 | B2: Amit Sharma | C2: Purchase | D2: Pen Set | E2: 7 | F2: 1.99 | G2: =F2*E2 -> 13.93 | I2: Total Units Purchased | J2: =SUMIF(C:C,"purchase",E:E) -> 952
A3: 39069 | B3: Kivell | C3: Sale | D3: Binder | E3: 85 | F3: 19.99 | G3: =F3*E3 -> 1699.15 | J3: =SUMIFS(E:E,C:C,"purchase",D:D,"pen set") -> 529
A4: 39072 | B4: Howard | C4: Sale | D4: Pen Set | E4: 62 | F4: 4.99 | G4: =F4*E4 -> 309.38
A5: 39075 | B5: Gill | C5: Purchase | D5: Pen | E5: 58 | F5: 19.99 | G5: =F5*E5 -> 1159.42
A6: 39078 | B6: Anderson | C6: Sale | D6: Binder | E6: 10 | F6: 4.99 | G6: =F6*E6 -> 49.9
A7: 39081 | B7: Anderson | C7: Sale | D7: Pen Set | E7: 24 | F7: 2.99 | G7: =F7*E7 -> 71.76
A8: 39084 | B8: Amit Kumar | C8: Purchase | D8: Pen Set | E8: 6 | F8: 1.99 | G8: =F8*E8 -> 11.94
A9: 39087 | B9: Howard | C9: Purchase | D9: Pen Set | E9: 10 | F9: 4.99 | G9: =F9*E9 -> 49.9
A10: 39090 | B10: Howard | C10: Sale | D10: Pen Set | E10: 39 | F10: 1.99 | G10: =F10*E10 -> 77.61
A11: 39093 | B11: Jones | C11: Sale | D11: Binder | E11: 1 | F11: 8.99 | G11: =F11*E11 -> 8.99
A12: 39096 | B12: Kivell | C12: Purchase | D12: Pen Set | E12: 80 | F12: 4.99 | G12: =F12*E12 -> 399.2
A13: 39099 | B13: Howard | C13: Sale | D13: Binder | E13: 51 | F13: 1.99 | G13: =F13*E13 -> 101.49
A14: 39102 | B14: Parent | C14: Purchase | D14: Binder | E14: 10 | F14: 19.99 | G14: =F14*E14 -> 199.9
A15: 39105 | B15: Jones | C15: Sale | D15: Pen Set | E15: 15 | F15: 4.99 | G15: =F15*E15 -> 74.85
... A50: 39210 | B50: Gill | C50: Sale | D50: Binder | E50: 19 | F50: 4.99 | G50: =F50*E50 -> 94.81

Sheet AVERAGE
A1: Date | B1: Customer | C1: Trans | D1: Item | E1: Units
A2: 39069 | B2: Kivell | C2: Sale | D2: Binder | E2: 85 | G2: Average Units Sold | H2: =AVERAGE(E2:E7) -> 42
A3: 39078 | B3: Anderson | C3: Sale | D3: Binder | E3: 10
A4: 39093 | B4: Jones | C4: Sale | D4: Binder | E4: 1
A5: 39099 | B5: Howard | C5: Sale | D5: Binder | E5: 51 | H5: =AVERAGEIF(B2:B7,"anderson",E2:E7) -> 31
A6: 39132 | B6: Anderson | C6: Sale | D6: Binder | E6: 52
A7: 39180 | B7: Smith | C7: Sale | D7: Binder | E7: 53

Sheet EXACT
A1: Set 1 | B1: Set 2 | C1: Equals | D1: Exact
A2: Amarjeet singh | B2: Amarjeet Singh | C2: =A2=B2 -> TRUE | D2: =EXACT(A2,B2) -> FALSE
A3: Sachin Kumar Sharma | B3: SACHIN KUMAR SHARMA | C3: =A3=B3 -> TRUE | D3: =EXACT(A3,B3) -> FALSE
A4: Mohit Malik | B4: Mohit Malik | C4: =A4=B4 -> TRUE | D4: =EXACT(A4,B4) -> TRUE
A5: Deepak Sharma | B5: Deepak sharma | C5: =A5=B5 -> TRUE | D5: =EXACT(A5,B5) -> FALSE
A6: Kratika Bhatnagar | B6: Kratika Bhatnagar | C6: =A6=B6 -> TRUE | D6: =EXACT(A6,B6) -> TRUE
A7: Gaurav Khanna | B7: Gaurav Khanna | C7: =A7=B7 -> TRUE | D7: =EXACT(A7,B7) -> TRUE
A8: ASIF KHAN | B8: Asif Khan | C8: =A8=B8 -> TRUE | D8: =EXACT(A8,B8) -> FALSE
A9: Ajaj Kumar Rana | B9: Ajaj Kumar Rana | C9: =A9=B9 -> TRUE | D9: =EXACT(A9,B9) -> TRUE

Sheet CONCATENATE
A1: First Name | B1: Last Name | C1: Full Name | D1: Full Name (IBM)
A2: Amarjeet | B2: Singh | C2: =CONCATENATE(A2," ",B2) -> Amarjeet Singh | D2: =CONCATENATE(A2," ",B2," (IBM)") -> Amarjeet Singh (IBM) | E2: =A2&" "&B2 -> Amarjeet Singh
A3: Sachin | B3: Kumar | C3: =CONCATENATE(A3," ",B3) -> Sachin Kumar | D3: =CONCATENATE(A3," ",B3," (IBM)") -> Sachin Kumar (IBM) | E3: =A3&" "&B3 -> Sachin Kumar
A4: Mohit | B4: Malik | C4: =CONCATENATE(A4," ",B4) -> Mohit Malik | D4: =CONCATENATE(A4," ",B4," (IBM)") -> Mohit Malik (IBM) | E4: =A4&" "&B4 -> Mohit Malik | I4: Amit | J4: Kumar | K4: Sharma | L4: =CONCATENATE(I4," ",J4," ",K4) -> Amit Kumar Sharma
A5: Deepak | B5: Sharma | C5: =CONCATENATE(A5," ",B5) -> Deepak Sharma | D5: =CONCATENATE(A5," ",B5," (IBM)") -> Deepak Sharma (IBM) | E5: =A5&" "&B5 -> Deepak Sharma
A6: Kratika | B6: Bhatnagar | C6: =CONCATENATE(A6," ",B6) -> Kratika Bhatnagar | D6: =CONCATENATE(A6," ",B6," (IBM)") -> Kratika Bhatnagar (IBM) | E6: =A6&" "&B6 -> Kratika Bhatnagar
A7: Gaurav | B7: Khanna | C7: =CONCATENATE(A7," ",B7) -> Gaurav Khanna | D7: =CONCATENATE(A7," ",B7," (IBM)") -> Gaurav Khanna (IBM) | E7: =A7&" "&B7 -> Gaurav Khanna
A8: Asif | B8: Khan | C8: =CONCATENATE(A8," ",B8) -> Asif Khan | D8: =CONCATENATE(A8," ",B8," (IBM)") -> Asif Khan (IBM) | E8: =A8&" "&B8 -> Asif Khan
A9: Ajaj | B9: Kumar | C9: =CONCATENATE(A9," ",B9) -> Ajaj Kumar | D9: =CONCATENATE(A9," ",B9," (IBM)") -> Ajaj Kumar (IBM) | E9: =A9&" "&B9 -> Ajaj Kumar
A10: Aakash | B10: Bhutani | C10: =CONCATENATE(A10," ",B10) -> Aakash Bhutani | D10: =CONCATENATE(A10," ",B10," (IBM)") -> Aakash Bhutani (IBM) | E10: =A10&" "&B10 -> Aakash Bhutani
A11: Praveen | B11: Sharma | C11: =CONCATENATE(A11," ",B11) -> Praveen Sharma | D11: =CONCATENATE(A11," ",B11," (IBM)") -> Praveen Sharma (IBM) | E11: =A11&" "&B11 -> Praveen Sharma
A12: Ravi | B12: Ranjan | C12: =CONCATENATE(A12," ",B12) -> Ravi Ranjan | D12: =CONCATENATE(A12," ",B12," (IBM)") -> Ravi Ranjan (IBM) | E12: =A12&" "&B12 -> Ravi Ranjan
A13: Vivek | B13: Pant | C13: =CONCATENATE(A13," ",B13) -> Vivek Pant | D13: =CONCATENATE(A13," ",B13," (IBM)") -> Vivek Pant (IBM) | E13: =A13&" "&B13 -> Vivek Pant
A14: Pallavi | B14: Srivastava | C14: =CONCATENATE(A14," ",B14) -> Pallavi Srivastava | D14: =CONCATENATE(A14," ",B14," (IBM)") -> Pallavi Srivastava (IBM) | E14: =A14&" "&B14 -> Pallavi Srivastava
A15: Anoop | B15: Kumar | C15: =CONCATENATE(A15," ",B15) -> Anoop Kumar | D15: =CONCATENATE(A15," ",B15," (IBM)") -> Anoop Kumar (IBM) | E15: =A15&" "&B15 -> Anoop Kumar
A16: Shivam | B16: Kumar | C16: =CONCATENATE(A16," ",B16) -> Shivam Kumar | D16: =CONCATENATE(A16," ",B16," (IBM)") -> Shivam Kumar (IBM) | E16: =A16&" "&B16 -> Shivam Kumar
... A99: Summit | B99: kar | C99: =CONCATENATE(A99," ",B99) -> Summit kar | D99: =CONCATENATE(A99," ",B99," (IBM)") -> Summit kar (IBM) | E99: =A99&" "&B99 -> Summit kar
B122: Amit | C122: Kumar | D122: Singh
B124: =CONCATENATE(B122," ",C122," ",D122) -> Amit Kumar Singh

Sheet NETWORKDAYS
A1: Employee | B1: Start | C1: End | D1: Sat-Sun Off | E1: Sun Off | G1: List of Holidays - 2012
A2: Amarjeet Singh | B2: 40980 | C2: 41016 | D2: =NETWORKDAYS(B2,C2,$I$3:$I$14) -> 25 | E2: =_xlfn.NETWORKDAYS.INTL(B2,C2,11,$I$3:$I$14) -> 30 | G2: SL | H2: Holiday | I2: Date
A3: Sachin Kumar Sharma | B3: 40984 | C3: 41141 | D3: =NETWORKDAYS(B3,C3,$I$3:$I$14) -> 110 | E3: =_xlfn.NETWORKDAYS.INTL(B3,C3,11,$I$3:$I$14) -> 133 | G3: 1 | H3: Republic Day | I3: 40934
A4: Mohit Malik | B4: 41015 | C4: 41174 | D4: =NETWORKDAYS(B4,C4,$I$3:$I$14) -> 112 | E4: =_xlfn.NETWORKDAYS.INTL(B4,C4,11,$I$3:$I$14) -> 135 | G4: 2 | H4: Holi | I4: 40976
A5: Deepak Sharma | B5: 41135 | C5: 41201 | D5: =NETWORKDAYS(B5,C5,$I$3:$I$14) -> 46 | E5: =_xlfn.NETWORKDAYS.INTL(B5,C5,11,$I$3:$I$14) -> 55 | G5: 3 | H5: Strike | I5: 40981
A6: Kratika Bhatnagar | B6: 41198 | C6: 41272 | D6: =NETWORKDAYS(B6,C6,$I$3:$I$14) -> 50 | E6: =_xlfn.NETWORKDAYS.INTL(B6,C6,11,$I$3:$I$14) -> 61 | G6: 4 | H6: Strike | I6: 40982
A7: Gaurav Khanna | B7: 40930 | C7: 41015 | D7: =NETWORKDAYS(B7,C7,$I$3:$I$14) -> 57 | E7: =_xlfn.NETWORKDAYS.INTL(B7,C7,11,$I$3:$I$14) -> 69 | G7: 5 | H7: Janamashtmi | I7: 41131
A8: Asif Khan | B8: 40984 | C8: 41146 | D8: =NETWORKDAYS(B8,C8,$I$3:$I$14) -> 114 | E8: =_xlfn.NETWORKDAYS.INTL(B8,C8,11,$I$3:$I$14) -> 138 | G8: 6 | H8: Independence Day | I8: 41136
A9: Mukesh Rana | B9: 41070 | C9: 41168 | D9: =NETWORKDAYS(B9,C9,$I$3:$I$14) -> 67 | E9: =_xlfn.NETWORKDAYS.INTL(B9,C9,11,$I$3:$I$14) -> 81 | G9: 7 | H9: Onam | I9: 41150
G10: 8 | H10: Gandhi Jayanti | I10: 41184
G11: 9 | H11: Duserhra | I11: 41206
B12: 41135 | C12: 41201 | G12: 10 | H12: Deepavali | I12: 41226
G13: 11 | H13: Govardhan Puja | I13: 41227
G14: 12 | H14: Christmas Day | I14: 41268

Sheet IS-FUNCTIONS
A1: ISERROR | D1: ISBLANK
A2: Calculation | B2: Status | D2: Calculation | E2: Status
A3: =5/0 -> #DIV/0! | B3: =ISERROR(A3) -> TRUE | D3: AMIT | E3: =ISBLANK(D3) -> FALSE
A4: =VLOOKUP(A2,#REF!,2,0) -> #REF! | B4: =ISERROR(A4) -> TRUE | D4: 52 | E4: =ISBLANK(D4) -> FALSE
A5: =fgfg -> #NAME? | B5: =ISERROR(A5) -> TRUE | E5: =ISBLANK(D5) -> TRUE
A6: =45/8 -> 5.625 | B6: =ISERROR(A6) -> FALSE | D6: =45/8 -> 5.625 | E6: =ISBLANK(D6) -> FALSE
A7: =CONCATENATE("12",jj) -> #NAME? | B7: =ISERROR(A7) -> TRUE | D7: 124FDRE | E7: =ISBLANK(D7) -> FALSE
A8: =#REF! -> #REF! | B8: =ISERROR(A8) -> TRUE | E8: =ISBLANK(D8) -> TRUE
A10: ISEVEN | D10: ISODD | H10: 21 | J10: =ISEVEN(H10) -> FALSE
A11: Calculation | B11: Status | D11: Calculation | E11: Status
A12: 21 | B12: =ISEVEN(A12) -> FALSE | D12: 21 | E12: =ISODD(D12) -> TRUE
A13: 2 | B13: =ISEVEN(A13) -> TRUE | D13: 2 | E13: =ISODD(D13) -> FALSE
A14: 122 | B14: =ISEVEN(A14) -> TRUE | D14: 122 | E14: =ISODD(D14) -> FALSE
A15: 5 | B15: =ISEVEN(A15) -> FALSE | D15: 5 | E15: =ISODD(D15) -> TRUE
A16: 8 | B16: =ISEVEN(A16) -> TRUE | D16: 8 | E16: =ISODD(D16) -> FALSE
A17: 64 | B17: =ISEVEN(A17) -> TRUE | D17: 64 | E17: =ISODD(D17) -> FALSE
A19: ISNUMBER | D19: ISTEXT
A20: Calculation | B20: Status | D20: Calculation | E20: Status
A21: AMIT | B21: =ISNUMBER(A21) -> FALSE | D21: AMIT | E21: =ISTEXT(D21) -> TRUE
A22: 52 | B22: =ISNUMBER(A22) -> TRUE | D22: 52 | E22: =ISTEXT(D22) -> FALSE
A23: 124 | B23: =ISNUMBER(A23) -> TRUE | D23: FG56Y | E23: =ISTEXT(D23) -> TRUE
A24: =45/8 -> 5.625 | B24: =ISNUMBER(A24) -> TRUE | D24: =45/8 -> 5.625 | E24: =ISTEXT(D24) -> FALSE
A25: 124FDRE | B25: =ISNUMBER(A25) -> FALSE | D25: 124FDRE | E25: =ISTEXT(D25) -> TRUE
A26: =16/21 -> 0.76190476 | B26: =ISNUMBER(A26) -> TRUE | D26: ED33 | E26: =ISTEXT(D26) -> TRUE

Sheet IF
A1: Customer | B1: Transaction | C1: Type | E1: Number | F1: Status | H1: Name | I1: Marks | J1: Grade | L1: Outstanding | M1: >=90
A2: Jones | B2: Purchase | C2: =IF(B2="PURCHASE","Debit","Credit") -> Debit | E2: 1 | F2: =IF(E2<5,"Not Met",IF(E2=5,"Average","Met")) -> Not Met | H2: Amarjeet Singh | I2: 98 | J2: =IF(I2>=90,$H$21,IF(I2>=80,$H$22,IF(I2>=60,$H$23,IF(I2>=45,$H$24,IF(I2>=33,$H$25,$H$26))))) -> Outstanding | L2: Distinction | M2: >=80
A3: Kivell | B3: Sale | C3: =IF(B3="PURCHASE","Debit","Credit") -> Credit | E3: 5 | F3: =IF(E3<5,"Not Met",IF(E3=5,"Average","Met")) -> Average | H3: Sachin Kumar Sharma | I3: 74 | J3: =IF(I3>=90,$H$21,IF(I3>=80,$H$22,IF(I3>=60,$H$23,IF(I3>=45,$H$24,IF(I3>=33,$H$25,$H$26))))) -> First Division | L3: First Division | M3: >=60
A4: Howard | B4: Sale | C4: =IF(B4="PURCHASE","Debit","Credit") -> Credit | E4: 6 | F4: =IF(E4<5,"Not Met",IF(E4=5,"Average","Met")) -> Met | H4: Mohit Malik | I4: 44 | J4: =IF(I4>=90,$H$21,IF(I4>=80,$H$22,IF(I4>=60,$H$23,IF(I4>=45,$H$24,IF(I4>=33,$H$25,$H$26))))) -> Third Division | L4: Second Division | M4: >=45
A5: Gill | B5: Purchase | C5: =IF(B5="PURCHASE","Debit","Credit") -> Debit | E5: 9 | F5: =IF(E5<5,"Not Met",IF(E5=5,"Average","Met")) -> Met | H5: Deepak Sharma | I5: 90 | J5: =IF(I5>=90,$H$21,IF(I5>=80,$H$22,IF(I5>=60,$H$23,IF(I5>=45,$H$24,IF(I5>=33,$H$25,$H$26))))) -> Outstanding | L5: Third Division | M5: >=33
A6: Anderson | B6: Sale | C6: =IF(B6="PURCHASE","Debit","Credit") -> Credit | E6: 2 | F6: =IF(E6<5,"Not Met",IF(E6=5,"Average","Met")) -> Not Met | H6: Kratika Bhatnagar | I6: 89 | J6: =IF(I6>=90,$H$21,IF(I6>=80,$H$22,IF(I6>=60,$H$23,IF(I6>=45,$H$24,IF(I6>=33,$H$25,$H$26))))) -> Distinction | L6: Fail | M6: Else
A7: Anderson | B7: Sale | C7: =IF(B7="PURCHASE","Debit","Credit") -> Credit | E7: 3 | F7: =IF(E7<5,"Not Met",IF(E7=5,"Average","Met")) -> Not Met | H7: Gaurav Khanna | I7: 86 | J7: =IF(I7>=90,$H$21,IF(I7>=80,$H$22,IF(I7>=60,$H$23,IF(I7>=45,$H$24,IF(I7>=33,$H$25,$H$26))))) -> Distinction
A8: Anderson | B8: Purchase | C8: =IF(B8="PURCHASE","Debit","Credit") -> Debit | E8: 4 | F8: =IF(E8<5,"Not Met",IF(E8=5,"Average","Met")) -> Not Met | H8: Asif Khan | I8: 41 | J8: =IF(I8>=90,$H$21,IF(I8>=80,$H$22,IF(I8>=60,$H$23,IF(I8>=45,$H$24,IF(I8>=33,$H$25,$H$26))))) -> Third Division
A9: Howard | B9: Purchase | C9: =IF(B9="PURCHASE","Debit","Credit") -> Debit | E9: 5 | F9: =IF(E9<5,"Not Met",IF(E9=5,"Average","Met")) -> Average | H9: Ajaj Kumar Rana | I9: 63 | J9: =IF(I9>=90,$H$21,IF(I9>=80,$H$22,IF(I9>=60,$H$23,IF(I9>=45,$H$24,IF(I9>=33,$H$25,$H$26))))) -> First Division
A10: Howard | B10: Sale | C10: =IF(B10="PURCHASE","Debit","Credit") -> Credit | E10: 8 | F10: =IF(E10<5,"Not Met",IF(E10=5,"Average","Met")) -> Met | H10: Aakash Bhutani | I10: 89 | J10: =IF(I10>=90,$H$21,IF(I10>=80,$H$22,IF(I10>=60,$H$23,IF(I10>=45,$H$24,IF(I10>=33,$H$25,$H$26))))) -> Distinction
A11: Jones | B11: Sale | C11: =IF(B11="PURCHASE","Debit","Credit") -> Credit | E11: 6 | F11: =IF(E11<5,"Not Met",IF(E11=5,"Average","Met")) -> Met | H11: Praveen Sharma | I11: 89 | J11: =IF(I11>=90,$H$21,IF(I11>=80,$H$22,IF(I11>=60,$H$23,IF(I11>=45,$H$24,IF(I11>=33,$H$25,$H$26))))) -> Distinction
A12: Kivell | B12: Purchase | C12: =IF(B12="PURCHASE","Debit","Credit") -> Debit | H12: Ravi Ranjan | I12: 86 | J12: =IF(I12>=90,$H$21,IF(I12>=80,$H$22,IF(I12>=60,$H$23,IF(I12>=45,$H$24,IF(I12>=33,$H$25,$H$26))))) -> Distinction
A13: Howard | B13: Purchase | C13: =IF(B13="PURCHASE","Debit","Credit") -> Debit | E13: <5 | F13: Not Met | H13: Vivek Pant | I13: 61 | J13: =IF(I13>=90,$H$21,IF(I13>=80,$H$22,IF(I13>=60,$H$23,IF(I13>=45,$H$24,IF(I13>=33,$H$25,$H$26))))) -> First Division
A14: Parent | B14: Purchase | C14: =IF(B14="PURCHASE","Debit","Credit") -> Debit | E14: =5 | F14: Average | H14: Pallavi Srivastava | I14: 42 | J14: =IF(I14>=90,$H$21,IF(I14>=80,$H$22,IF(I14>=60,$H$23,IF(I14>=45,$H$24,IF(I14>=33,$H$25,$H$26))))) -> Third Division
A15: Jones | B15: Sale | C15: =IF(B15="PURCHASE","Debit","Credit") -> Credit | E15: >5 | F15: Met | H15: Anoop Kumar Singh | I15: 28 | J15: =IF(I15>=90,$H$21,IF(I15>=80,$H$22,IF(I15>=60,$H$23,IF(I15>=45,$H$24,IF(I15>=33,$H$25,$H$26))))) -> Fail
A16: Anderson | B16: Sale | C16: =IF(B16="PURCHASE","Debit","Credit") -> Credit | H16: Shivam Kumar Gupta | I16: 57 | J16: =IF(I16>=90,$H$21,IF(I16>=80,$H$22,IF(I16>=60,$H$23,IF(I16>=45,$H$24,IF(I16>=33,$H$25,$H$26))))) -> Second Division
A17: Jones | B17: Purchase | C17: =IF(B17="PURCHASE","Debit","Credit") -> Debit | H17: Akhil Gupta | I17: 93 | J17: =IF(I17>=90,$H$21,IF(I17>=80,$H$22,IF(I17>=60,$H$23,IF(I17>=45,$H$24,IF(I17>=33,$H$25,$H$26))))) -> Outstanding
A18: Kivell | B18: Purchase | C18: =IF(B18="PURCHASE","Debit","Credit") -> Debit | H18: Yatish Kumar | I18: 89 | J18: =IF(I18>=90,$H$21,IF(I18>=80,$H$22,IF(I18>=60,$H$23,IF(I18>=45,$H$24,IF(I18>=33,$H$25,$H$26))))) -> Distinction
A19: Jones | B19: Sale | C19: =IF(B19="PURCHASE","Debit","Credit") -> Credit | H19: Niranjan Singh Jagde | I19: 82 | J19: =IF(I19>=90,$H$21,IF(I19>=80,$H$22,IF(I19>=60,$H$23,IF(I19>=45,$H$24,IF(I19>=33,$H$25,$H$26))))) -> Distinction
A20: Parent | B20: Purchase | C20: =IF(B20="PURCHASE","Debit","Credit") -> Debit
A21: Kivell | B21: Sale | C21: =IF(B21="PURCHASE","Debit","Credit") -> Credit | H21: Outstanding | I21: >=90
A22: Smith | B22: Purchase | C22: =IF(B22="PURCHASE","Debit","Credit") -> Debit | H22: Distinction | I22: >=80
H23: First Division | I23: >=60
A24: Purchase | B24: Debit | H24: Second Division | I24: >=45
A25: Sale | B25: Credit | H25: Third Division | I25: >=33
H26: Fail | I26: Else
B28: IF
B29: Condition
B30: TRUE | C30: Statement | I30: 98
B31: FALSE | C31: Statement
B33: Sale | C33: =IF(B33="Sale","Credit","Debit") -> Credit
B34: Purchase | C34: =IF(B34="Sale","Credit","Debit") -> Debit
B37: IF
B38: Condition1
B39: TRUE | C39: Statement
B40: IF
B41: Condition2
B42: TRUE | C42: Statement
B44: FALSE | C44: Statement

Sheet HelpDesk Data
A1: Sl. No. | B1: Case Id | C1: Call Rec Date | D1: Call Resolved Date | E1: Customer Name | F1: City | G1: Contact No | H1: Mobile No | I1: Product | J1: Product No | K1: Model | L1: Serial No | M1: Call Status
A2: 1 | B2: TIPL:OL:020109-1 | C2: 39845.415 | D2: 39864.713 | E2: ROHAN SINHA | F2: PATNA | G2: 2904637 | H2: 9955999015 | I2: Laptop | J2: PTA83L-04902N | K2: Satellite Pro A120 | L2: 86134701H | M2: Close
A3: 2 | B3: TIPL:OL:020109-4 | C3: 39845.651 | D3: 39856.682 | E3: Shibashish rodra | F3: Delhi | G3: 41323297 | H3: 9999224900 | I3: Laptop | J3: PSL2XL-01R007 | K3: Satellite L20 | L3: 26090969W | M3: Close
A4: 3 | B4: TIPL:OL:020109-9 | C4: 39845.871 | D4: 39857.72 | E4: Punit | F4: Delhi | G4: 9818122220 | H4: 9818522220 | I4: Laptop | J4: PSLB9A-00L002 | K4: Satellite L300 | L4: Y8164930Q | M4: Close
A5: 4 | B5: TIPL:OL:020209-2 | C5: 39846.349 | D5: 39863.768 | E5: Dr Arif | F5: Lucknow | G5: 3019107 | H5: 9514018637 | I5: Laptop | J5: PSAA8L-1QU04M | K5: Satellite A100 | L5: Z6157544Q | M5: Close
A6: 5 | B6: TIPL:OL:020209-3 | C6: 39846.417 | E6: TRILOK SINGH | F6: INDORE | G6: 9752353537 | H6: 9752353537 | I6: Laptop | J6: PSL15E-00N02GBT | K6: Satellite Pro L10 | L6: 75024540W | M6: Open
A7: 6 | B7: TIPL:OL:020209-4 | C7: 39846.43 | D7: 39846.748 | E7: Mohhamad Yusufi | F7: Delhi | G7: 9910657065 | H7: 9910657174 | I7: Laptop | J7: PSME2G-00Q003 | K7: Satellite L310 | L7: 58259563W | M7: Close
A8: 7 | B8: TIPL:OL:020209-9 | C8: 39846.539 | D8: 39853.65 | E8: Siraj | F8: Banglore | G8: 41510762 | H8: 9008022633 | I8: Laptop | J8: PTA83L-04902N | K8: Satellite A120 | L8: 86137123H | M8: Close
A9: 8 | B9: TIPL:OL:020209-11 | C9: 39846.554 | D9: 39847.495 | E9: Aujn Malik | F9: Delhi | G9: 9899388000 | H9: 9873366660 | I9: Laptop | J9: PTA42U-0K601G | K9: Tecra A4 | L9: 16069918Q | M9: Close
A10: 9 | B10: TIPL:OL:020209-12 | C10: 39846.559 | E10: Prabhu Nath | F10: Lucknow | G10: 9415022405 | H10: 9415022405 | I10: Laptop | J10: PSME2G-00P003 | K10: Satellite L310 | L10: 48044362W | M10: Open
A11: 10 | B11: TIPL:OL:020209-13 | C11: 39846.571 | D11: 39853.729 | E11: Mrs Bhatiya | F11: delhi | G11: 41540600 | H11: 9899936084 | I11: Laptop | J11: PSME6G-00E002 | K11: Satellite L310 | L11: 98172144W | M11: Close
A12: 11 | B12: TIPL:OL:020209-16 | C12: 39846.585 | E12: Mr Rameshwar | F12: Pathankot | G12: 9417222004 | H12: 9417222004 | I12: Laptop | J12: PSME2G-00P003 | K12: Satellite L310 | L12: 58302505W | M12: Open
A13: 12 | B13: TIPL:OL:020209-17 | C13: 39846.593 | D13: 39851.5 | E13: jitender singh | F13: Gurdaspur | G13: 977945778 | H13: 9417222004 | I13: Laptop | J13: PSME2G-00P003 | K13: Satellite L310 | L13: 48313765W | M13: Close
A14: 13 | B14: TIPL:OL:020209-19 | C14: 39846.606 | E14: Y. N GUPTA | F14: GURGAON | G14: 9810010819 | H14: 9350846860 | I14: Laptop | J14: PSL2XL-01R007 | K14: Satellite L20 | L14: X5092012W | M14: Reject
A15: 14 | B15: TIPL:OL:020209-20 | C15: 39846.627 | D15: 39865.751 | E15: Parth Singh Pundir | F15: Dehradun | G15: 9760520000 | H15: 9760520000 | I15: Laptop | J15: PTA83L-08L02N | K15: Satellite Pro A120 | L15: Z6077032H | M15: Close
A16: 15 | B16: TIPL:OL:020209-21 | C16: 39846.654 | E16: Ashsaq Ahmad | F16: rinagar | G16: 2480909 | H16: 9419004710 | I16: Laptop | J16: PSAFCL-01M00P | K16: Satellite A200 | L16: 67085807Q | M16: Reject
A17: 16 | B17: TIPL:OL:020209-22 | C17: 39846.655 | E17: Manan | F17: Delhi | G17: 25252504 | H17: 9810003552 | I17: Laptop | J17: PSAFCA-01K00J | K17: Satellite A200 | L17: 57057490Q | M17: Reject
A18: 17 | B18: TIPL:OL:020209-23 | C18: 39846.662 | D18: 39851.52 | E18: Abaas | F18: Delhi | G18: 9999846095 | H18: 9999846095 | I18: Laptop | J18: PSL30L-00M019 | K18: Satellite L30 | L18: 76125818W | M18: Close
A19: 18 | B19: TIPL:OL:020209-24 | C19: 39846.686 | E19: Anirudh | F19: indore | G19: 7312455872 | H19: 9827091725 | I19: Laptop | J19: PSAA8L-04E00L | K19: Satellite A100 | L19: 26215953Q | M19: Open
A20: 19 | B20: TIPL:OL:020209-25 | C20: 39846.688 | E20: Himanshu Gautam | F20: Agra | G20: 9319579490 | H20: 9319579490 | I20: Laptop | J20: PSL4CL-001002 | K20: Satellite L40 | L20: X7060761R | M20: Open
A21: 20 | B21: TIPL:OL:020209-26 | C21: 39846.688 | D21: 39847.523 | E21: Arun | F21: Chandigarh | G21: 9855379706 | H21: 9855379706 | I21: Laptop | J21: PSAFCL-05U014 | K21: Satellite A100 | L21: 87122150Q | M21: Close
A22: 21 | B22: TIPL:OL:020209-27 | C22: 39846.699 | E22: Aparna | F22: New Delhi | G22: 46049816 | H22: 9313102914 | I22: Laptop | J22: PSM70E-02J01YED | K22: Satellite M70 | L22: 56179215K | M22: On Hold
A23: 22 | B23: TIPL:OL:020209-28 | C23: 39846.702 | D23: 39849.766 | E23: Krishana | F23: Bangalore | G23: 41209640 | H23: 41209640 | I23: Laptop | J23: PSAA0U-01Q002 | K23: Satellite A105 | L23: 26035643Q | M23: Close
A24: 23 | B24: TIPL:OL:020209-30 | C24: 39846.704 | D24: 39850.542 | E24: Dhananjai Aggarwal | F24: Delhi | G24: 9818265320 | H24: 9811011419 | I24: Laptop | J24: PSLB8E-01200HAR | K24: Satellite L300 | L24: 98644550Q | M24: Close
A25: 24 | B25: TIPL:OL:020209-32 | C25: 39846.71 | E25: Mohemmad Salim | F25: Delhi | G25: 9990963734 | H25: 9990963734 | I25: Laptop | J25: PSLB8E-03500HAR | K25: Satellite L300 | L25: X8397781Q | M25: Reject
A26: 25 | B26: TIPL:OL:020209-35 | C26: 39846.754 | E26: R B Jain | F26: Pune | G26: 24266882 | H26: 9823066223 | I26: Laptop | J26: PSA50Z-02700M | K26: Satellite A50 | L26: 74030057J | M26: Open
A27: 26 | B27: TIPL:OL:020209-36 | C27: 39846.772 | D27: 39864.551 | E27: Sanjeev Tiwari | F27: Agra | G27: 9897652216 | H27: 9319206846 | I27: Laptop | J27: PPM60H-09600M | K27: Portege M600 | L27: 28061280W | M27: Close
A28: 27 | B28: TIPL:OL:020209-37 | C28: 39846.806 | D28: 39848.712 | E28: Manmeet Singh | F28: Mohali | G28: 9903429077 | H28: 9748856127 | I28: Laptop | J28: PSME2G-00P003 | K28: Satellite L310 | L28: 58283241W | M28: Close
A29: 28 | B29: TIPL:OL:020209-42 | C29: 39846.868 | D29: 39848.469 | E29: Ashish | F29: Agra | G29: 9927900722 | H29: 9319531209 | I29: Laptop | J29: PSMCDL-007004 | K29: Satellite L200 | L29: X7084087Q | M29: Close
A30: 29 | B30: TIPL:OL:020209-45 | C30: 39846.884 | D30: 39850.463 | E30: Vinkle | F30: Chandigarh | G30: 9915000227 | H30: 9877012226 | I30: Laptop | J30: PSMC1L-003002 | K30: Satellite M200 | L30: 77170522Q | M30: Close
A31: 30 | B31: TIPL:OL:020309-4 | C31: 39847.348 | E31: Mh. Javed | F31: Shahjahanpur | G31: 9935126241 | H31: 9838637495 | I31: Laptop | J31: PSL40L-03301W | K31: Satellite L40 | L31: 87093889R | M31: Reject
A32: 31 | B32: TIPL:OL:020309-6 | C32: 39847.423 | D32: 39854.76 | E32: Pradeep | F32: bawer | G32: 9214065230 | H32: 1412624250 | I32: Laptop | J32: PSMC1L-009002 | K32: Satellite M200 | L32: 87141703Q | M32: Close
A33: 32 | B33: TIPL:OL:020309-8 | C33: 39847.439 | E33: Girish Chadha | F33: Nalagarh | G33: 9218521381 | H33: 9218521381 | I33: Laptop | J33: PSL48L-02000U | K33: Satellite L40 | L33: 97102675R | M33: Open
A34: 33 | B34: TIPL:OL:020309-9 | C34: 39847.44 | D34: 39850.728 | E34: Sulabha | F34: Mumbai | G34: 21630145 | H34: 9833508905 | I34: Laptop | J34: PSAE3U-06X024 | K34: Satellite A205 | L34: 48194267K | M34: Close
A35: 34 | B35: TIPL:OL:020309-11 | C35: 39847.464 | D35: 39865.523 | E35: Sagar | F35: Pune | G35: 9423040795 | H35: 9422012231 | I35: Laptop | J35: PSME2G-00Q003 | K35: Satellite L310 | L35: 58085890W | M35: Close
A36: 35 | B36: TIPL:OL:020309-12 | C36: 39847.467 | E36: Mohd Arsad | F36: amuraha | G36: 9927021002 | H36: 9358210055 | I36: Laptop | J36: PSME2G-00Q003 | K36: Satellite L310 | L36: 48057869W | M36: Open
A37: 36 | B37: TIPL:OL:020309-13 | C37: 39847.467 | D37: 39854.598 | E37: Mahesh | F37: delhi | G37: 9212652032 | H37: 9717341596 | I37: Laptop | J37: PSMD0G-02500P | K37: Satellite M300 | L37: 48339883W | M37: Close
A38: 37 | B38: TIPL:OL:020309-15 | C38: 39847.497 | E38: Uday PurWala | F38: Mumbai | G38: 9892575069 | H38: 9892575069 | I38: Laptop | J38: PSME2G-00P003 | K38: Satellite L310 | L38: 48044542W | M38: Open
A39: 38 | B39: TIPL:OL:020309-20 | C39: 39847.549 | E39: Rahul | F39: Delhi | G39: 9911557750 | H39: 9268710181 | I39: Laptop | J39: PTA83L-08L02N | K39: Satellite Pro A120 | L39: Z6087050H | M39: Open
A40: 39 | B40: TIPL:OL:020309-22 | C40: 39847.563 | D40: 39849.508 | E40: devender | F40: NEW DELHI | G40: 9999758272 | H40: 9999758272 | I40: Laptop | J40: PSAAKL-00D008 | K40: Satellite A100 | L40: 17313261Q | M40: Close
...

Sheet VLOOKUP - 1D
A1: Case Id | B1: Customer Name | C1: Model
A2: TIPL:OL:020209-28 | B2: =VLOOKUP($A2,'HelpDesk Data'!$B$1:$M$636,4,0) -> Krishana | C2: =VLOOKUP($A2,'HelpDesk Data'!$B$1:$M$636,10,0) -> Satellite A105
A3: TIPL:OL:020209-23 | B3: =VLOOKUP($A3,'HelpDesk Data'!$B$1:$M$636,4,0) -> Abaas | C3: =VLOOKUP($A3,'HelpDesk Data'!$B$1:$M$636,10,0) -> Satellite L30
A4: TIPL:OL:020609-18 | B4: =VLOOKUP($A4,'HelpDesk Data'!$B$1:$M$636,4,0) -> Abhijeet | C4: =VLOOKUP($A4,'HelpDesk Data'!$B$1:$M$636,10,0) -> Portege R200
A5: TIPL:OL:021309-46 | B5: =VLOOKUP($A5,'HelpDesk Data'!$B$1:$M$636,4,0) -> Abhijit gohain | C5: =VLOOKUP($A5,'HelpDesk Data'!$B$1:$M$636,10,0) -> Satellite M200
A6: TIPL:OL:021209-14 | B6: =VLOOKUP($A6,'HelpDesk Data'!$B$1:$M$636,4,0) -> Abhilash Anand | C6: =VLOOKUP($A6,'HelpDesk Data'!$B$1:$M$636,10,0) -> Satellite A30
A7: TIPL:OL:021309-23 | B7: =VLOOKUP($A7,'HelpDesk Data'!$B$1:$M$636,4,0) -> Abhinav | C7: =VLOOKUP($A7,'HelpDesk Data'!$B$1:$M$636,10,0) -> Satellite L300
A8: TIPL:OL:020409-11 | B8: =VLOOKUP($A8,'HelpDesk Data'!$B$1:$M$636,4,0) -> Abhishek | C8: =VLOOKUP($A8,'HelpDesk Data'!$B$1:$M$636,10,0) -> Satellite L40
A9: TIPL:OL:021009-9 | B9: =VLOOKUP($A9,'HelpDesk Data'!$B$1:$M$636,4,0) -> Abhishek | C9: =VLOOKUP($A9,'HelpDesk Data'!$B$1:$M$636,10,0) -> Satellite A200
A10: TIPL:OL:021109-32 | B10: =VLOOKUP($A10,'HelpDesk Data'!$B$1:$M$636,4,0) -> Abhishek | C10: =VLOOKUP($A10,'HelpDesk Data'!$B$1:$M$636,10,0) -> Tecra M3
A11: TIPL:OL:021309-25 | B11: =VLOOKUP($A11,'HelpDesk Data'!$B$1:$M$636,4,0) -> Abhishek | C11: =VLOOKUP($A11,'HelpDesk Data'!$B$1:$M$636,10,0) -> Satellite M200
A12: TIPL:OL:020709-41 | B12: =VLOOKUP($A12,'HelpDesk Data'!$B$1:$M$636,4,0) -> Abhishek Roy | C12: =VLOOKUP($A12,'HelpDesk Data'!$B$1:$M$636,10,0) -> Satellite L300
A13: TIPL:OL:020309-28 | B13: =VLOOKUP($A13,'HelpDesk Data'!$B$1:$M$636,4,0) -> ABID | C13: =VLOOKUP($A13,'HelpDesk Data'!$B$1:$M$636,10,0) -> Satellite A100
... A243: TIPL:OL:021609-22 | B243: =VLOOKUP($A243,'HelpDesk Data'!$B$1:$M$636,4,0) -> Yogesh Garg | C243: =VLOOKUP($A243,'HelpDesk Data'!$B$1:$M$636,10,0) -> Satellite Pro A120

Sheet MATCH
A1: Agent Name
A2: Amarjeet Singh | C2: Sunday | D2: Monday | E2: Tuesday | F2: Wednesday | G2: Thursday | H2: Friday | I2: Saturday
A3: Sachin Kumar Sharma
A4: Mohit Malik
A5: Deepak Sharma | C5: Monday | D5: =MATCH(C5,$C$2:$I$2,0) -> 2
A6: Kratika Bhatnagar | C6: Thursday | D6: =MATCH(C6,$C$2:$I$2,0) -> 5
A7: Gaurav Khanna
A8: Asif Khan | C8: Case Id | D8: Customer Name | E8: City | F8: Call Status | G8: Mobile No | H8: Contact No
A9: Vivek Pant
A10: Pallavi Srivastava | D10: City
A11: Anoop Kumar Singh | D11: =MATCH(D10,C8:H8,0) -> 3
A14: Deepak Sharma | B14: =MATCH(A14,A2:A11,0) -> 4
A15: Pallavi Srivastava | B15: =MATCH(A15,A2:A11,0) -> 9
C62: a
C63: b
C64: c | D64: =MATCH("b",C62:C64,0) -> 2
C67: a | D67: b | E67: c | F67: =MATCH("b",C67:E67,0) -> 2

Sheet VLOOKUP - 2D
A1: Case Id | B1: Customer Name | C1: City | D1: Call Status | E1: Mobile No | F1: Call Status
A2: TIPL:OL:020209-2 | B2: =VLOOKUP($A2,'HelpDesk Data'!$B$1:$M$636,MATCH(B$1,'HelpDesk Data'!$B$1:$M$1,0),0) -> Dr Arif | C2: =VLOOKUP($A2,'HelpDesk Data'!$B$1:$M$636,MATCH(C$1,'HelpDesk Data'!$B$1:$M$1,0),0) -> Lucknow | D2: =VLOOKUP($A2,'HelpDesk Data'!$B$1:$M$636,MATCH(D$1,'HelpDesk Data'!$B$1:$M$1,0),0) -> Close | E2: =VLOOKUP($A2,'HelpDesk Data'!$B$1:$M$636,MATCH(E$1,'HelpDesk Data'!$B$1:$M$1,0),0) -> 9514018637 | F2: =VLOOKUP($A2,'HelpDesk Data'!$B$1:$M$636,MATCH(F$1,'HelpDesk Data'!$B$1:$M$1,0),0) -> Close
A3: TIPL:OL:020209-23 | B3: =VLOOKUP($A3,'HelpDesk Data'!$B$1:$M$636,MATCH(B$1,'HelpDesk Data'!$B$1:$M$1,0),0) -> Abaas | C3: =VLOOKUP($A3,'HelpDesk Data'!$B$1:$M$636,MATCH(C$1,'HelpDesk Data'!$B$1:$M$1,0),0) -> Delhi | D3: =VLOOKUP($A3,'HelpDesk Data'!$B$1:$M$636,MATCH(D$1,'HelpDesk Data'!$B$1:$M$1,0),0) -> Close | E3: =VLOOKUP($A3,'HelpDesk Data'!$B$1:$M$636,MATCH(E$1,'HelpDesk Data'!$B$1:$M$1,0),0) -> 9999846095 | F3: =VLOOKUP($A3,'HelpDesk Data'!$B$1:$M$636,MATCH(F$1,'HelpDesk Data'!$B$1:$M$1,0),0) -> Close
A4: TIPL:OL:020609-18 | B4: =VLOOKUP($A4,'HelpDesk Data'!$B$1:$M$636,MATCH(B$1,'HelpDesk Data'!$B$1:$M$1,0),0) -> Abhijeet | C4: =VLOOKUP($A4,'HelpDesk Data'!$B$1:$M$636,MATCH(C$1,'HelpDesk Data'!$B$1:$M$1,0),0) -> Pune | D4: =VLOOKUP($A4,'HelpDesk Data'!$B$1:$M$636,MATCH(D$1,'HelpDesk Data'!$B$1:$M$1,0),0) -> Close | E4: =VLOOKUP($A4,'HelpDesk Data'!$B$1:$M$636,MATCH(E$1,'HelpDesk Data'!$B$1:$M$1,0),0) -> 26931457 | F4: =VLOOKUP($A4,'HelpDesk Data'!$B$1:$M$636,MATCH(F$1,'HelpDesk Data'!$B$1:$M$1,0),0) -> Close
A5: TIPL:OL:021309-46 | B5: =VLOOKUP($A5,'HelpDesk Data'!$B$1:$M$636,MATCH(B$1,'HelpDesk Data'!$B$1:$M$1,0),0) -> Abhijit gohain | C5: =VLOOKUP($A5,'HelpDesk Data'!$B$1:$M$636,MATCH(C$1,'HelpDesk Data'!$B$1:$M$1,0),0) -> Assam | D5: =VLOOKUP($A5,'HelpDesk Data'!$B$1:$M$636,MATCH(D$1,'HelpDesk Data'!$B$1:$M$1,0),0) -> Open | E5: =VLOOKUP($A5,'HelpDesk Data'!$B$1:$M$636,MATCH(E$1,'HelpDesk Data'!$B$1:$M$1,0),0) -> 9435048612 | F5: =VLOOKUP($A5,'HelpDesk Data'!$B$1:$M$636,MATCH(F$1,'HelpDesk Data'!$B$1:$M$1,0),0) -> Open
A6: TIPL:OL:021209-14 | B6: =VLOOKUP($A6,'HelpDesk Data'!$B$1:$M$636,MATCH(B$1,'HelpDesk Data'!$B$1:$M$1,0),0) -> Abhilash Anand | C6: =VLOOKUP($A6,'HelpDesk Data'!$B$1:$M$636,MATCH(C$1,'HelpDesk Data'!$B$1:$M$1,0),0) -> Bangalore | D6: =VLOOKUP($A6,'HelpDesk Data'!$B$1:$M$636,MATCH(D$1,'HelpDesk Data'!$B$1:$M$1,0),0) -> Close | E6: =VLOOKUP($A6,'HelpDesk Data'!$B$1:$M$636,MATCH(E$1,'HelpDesk Data'!$B$1:$M$1,0),0) -> 9741889978 | F6: =VLOOKUP($A6,'HelpDesk Data'!$B$1:$M$636,MATCH(F$1,'HelpDesk Data'!$B$1:$M$1,0),0) -> Close
A7: TIPL:OL:021309-23 | B7: =VLOOKUP($A7,'HelpDesk Data'!$B$1:$M$636,MATCH(B$1,'HelpDesk Data'!$B$1:$M$1,0),0) -> Abhinav | C7: =VLOOKUP($A7,'HelpDesk Data'!$B$1:$M$636,MATCH(C$1,'HelpDesk Data'!$B$1:$M$1,0),0) -> New Delhi | D7: =VLOOKUP($A7,'HelpDesk Data'!$B$1:$M$636,MATCH(D$1,'HelpDesk Data'!$B$1:$M$1,0),0) -> Close | E7: =VLOOKUP($A7,'HelpDesk Data'!$B$1:$M$636,MATCH(E$1,'HelpDesk Data'!$B$1:$M$1,0),0) -> 9871189077 | F7: =VLOOKUP($A7,'HelpDesk Data'!$B$1:$M$636,MATCH(F$1,'HelpDesk Data'!$B$1:$M$1,0),0) -> Close
A8: TIPL:OL:020409-11 | B8: =VLOOKUP($A8,'HelpDesk Data'!$B$1:$M$636,MATCH(B$1,'HelpDesk Data'!$B$1:$M$1,0),0) -> Abhishek | C8: =VLOOKUP($A8,'HelpDesk Data'!$B$1:$M$636,MATCH(C$1,'HelpDesk Data'!$B$1:$M$1,0),0) -> Allahabad | D8: =VLOOKUP($A8,'HelpDesk Data'!$B$1:$M$636,MATCH(D$1,'HelpDesk Data'!$B$1:$M$1,0),0) -> Open | E8: =VLOOKUP($A8,'HelpDesk Data'!$B$1:$M$636,MATCH(E$1,'HelpDesk Data'!$B$1:$M$1,0),0) -> 9616507237 | F8: =VLOOKUP($A8,'HelpDesk Data'!$B$1:$M$636,MATCH(F$1,'HelpDesk Data'!$B$1:$M$1,0),0) -> Open
A9: TIPL:OL:021009-9 | B9: =VLOOKUP($A9,'HelpDesk Data'!$B$1:$M$636,MATCH(B$1,'HelpDesk Data'!$B$1:$M$1,0),0) -> Abhishek | C9: =VLOOKUP($A9,'HelpDesk Data'!$B$1:$M$636,MATCH(C$1,'HelpDesk Data'!$B$1:$M$1,0),0) -> Bangalore | D9: =VLOOKUP($A9,'HelpDesk Data'!$B$1:$M$636,MATCH(D$1,'HelpDesk Data'!$B$1:$M$1,0),0) -> Open | E9: =VLOOKUP($A9,'HelpDesk Data'!$B$1:$M$636,MATCH(E$1,'HelpDesk Data'!$B$1:$M$1,0),0) -> 9880461800 | F9: =VLOOKUP($A9,'HelpDesk Data'!$B$1:$M$636,MATCH(F$1,'HelpDesk Data'!$B$1:$M$1,0),0) -> Open
A10: TIPL:OL:021109-32 | B10: =VLOOKUP($A10,'HelpDesk Data'!$B$1:$M$636,MATCH(B$1,'HelpDesk Data'!$B$1:$M$1,0),0) -> Abhishek | C10: =VLOOKUP($A10,'HelpDesk Data'!$B$1:$M$636,MATCH(C$1,'HelpDesk Data'!$B$1:$M$1,0),0) -> Bangalore | D10: =VLOOKUP($A10,'HelpDesk Data'!$B$1:$M$636,MATCH(D$1,'HelpDesk Data'!$B$1:$M$1,0),0) -> Open | E10: =VLOOKUP($A10,'HelpDesk Data'!$B$1:$M$636,MATCH(E$1,'HelpDesk Data'!$B$1:$M$1,0),0) -> 23600752 | F10: =VLOOKUP($A10,'HelpDesk Data'!$B$1:$M$636,MATCH(F$1,'HelpDesk Data'!$B$1:$M$1,0),0) -> Open
A11: TIPL:OL:021309-25 | B11: =VLOOKUP($A11,'HelpDesk Data'!$B$1:$M$636,MATCH(B$1,'HelpDesk Data'!$B$1:$M$1,0),0) -> Abhishek | C11: =VLOOKUP($A11,'HelpDesk Data'!$B$1:$M$636,MATCH(C$1,'HelpDesk Data'!$B$1:$M$1,0),0) -> Delhi | D11: =VLOOKUP($A11,'HelpDesk Data'!$B$1:$M$636,MATCH(D$1,'HelpDesk Data'!$B$1:$M$1,0),0) -> Close | E11: =VLOOKUP($A11,'HelpDesk Data'!$B$1:$M$636,MATCH(E$1,'HelpDesk Data'!$B$1:$M$1,0),0) -> 9216232304 | F11: =VLOOKUP($A11,'HelpDesk Data'!$B$1:$M$636,MATCH(F$1,'HelpDesk Data'!$B$1:$M$1,0),0) -> Close
A12: TIPL:OL:020709-41 | B12: =VLOOKUP($A12,'HelpDesk Data'!$B$1:$M$636,MATCH(B$1,'HelpDesk Data'!$B$1:$M$1,0),0) -> Abhishek Roy | C12: =VLOOKUP($A12,'HelpDesk Data'!$B$1:$M$636,MATCH(C$1,'HelpDesk Data'!$B$1:$M$1,0),0) -> Lucknow | D12: =VLOOKUP($A12,'HelpDesk Data'!$B$1:$M$636,MATCH(D$1,'HelpDesk Data'!$B$1:$M$1,0),0) -> Open | E12: =VLOOKUP($A12,'HelpDesk Data'!$B$1:$M$636,MATCH(E$1,'HelpDesk Data'!$B$1:$M$1,0),0) -> 9794493172 | F12: =VLOOKUP($A12,'HelpDesk Data'!$B$1:$M$636,MATCH(F$1,'HelpDesk Data'!$B$1:$M$1,0),0) -> Open
A13: TIPL:OL:020309-28 | B13: =VLOOKUP($A13,'HelpDesk Data'!$B$1:$M$636,MATCH(B$1,'HelpDesk Data'!$B$1:$M$1,0),0) -> ABID | C13: =VLOOKUP($A13,'HelpDesk Data'!$B$1:$M$636,MATCH(C$1,'HelpDesk Data'!$B$1:$M$1,0),0) -> PUNE | D13: =VLOOKUP($A13,'HelpDesk Data'!$B$1:$M$636,MATCH(D$1,'HelpDesk Data'!$B$1:$M$1,0),0) -> Close | E13: =VLOOKUP($A13,'HelpDesk Data'!$B$1:$M$636,MATCH(E$1,'HelpDesk Data'!$B$1:$M$1,0),0) -> 9881994565 | F13: =VLOOKUP($A13,'HelpDesk Data'!$B$1:$M$636,MATCH(F$1,'HelpDesk Data'!$B$1:$M$1,0),0) -> Close
... A22: TIPL:OL:020509-43 | B22: =VLOOKUP($A22,'HelpDesk Data'!$B$1:$M$636,MATCH(B$1,'HelpDesk Data'!$B$1:$M$1,0),0) -> Anand | C22: =VLOOKUP($A22,'HelpDesk Data'!$B$1:$M$636,MATCH(C$1,'HelpDesk Data'!$B$1:$M$1,0),0) -> Bangalore | D22: =VLOOKUP($A22,'HelpDesk Data'!$B$1:$M$636,MATCH(D$1,'HelpDesk Data'!$B$1:$M$1,0),0) -> Close | E22: =VLOOKUP($A22,'HelpDesk Data'!$B$1:$M$636,MATCH(E$1,'HelpDesk Data'!$B$1:$M$1,0),0) -> 9008483823 | F22: =VLOOKUP($A22,'HelpDesk Data'!$B$1:$M$636,MATCH(F$1,'HelpDesk Data'!$B$1:$M$1,0),0) -> Close
A23: TIPL:OL:021109-22
A24: TIPL:OL:020209-24
A25: TIPL:OL:021709-74
A26: TIPL:OL:020509-47
A27: TIPL:OL:020609-47
A28: TIPL:OL:020409-34
A29: TIPL:OL:021109-13
A30: TIPL:OL:021109-15
A31: TIPL:OL:021209-2
A32: TIPL:OL:021309-40
A33: TIPL:OL:021709-31
A34: TIPL:OL:020309-35
... A243: TIPL:OL:021609-22

Sheet INDEX
A1: Agent Name
A2: Amarjeet Singh | C2: Sunday | D2: Monday | E2: Tuesday | F2: Wednesday | G2: Thursday | H2: Friday | I2: Saturday
A3: Sachin Kumar Sharma | C3: January | D3: February | E3: March | F3: April | G3: May | H3: June | I3: July
A4: Mohit Malik
A5: Deepak Sharma
A6: Kratika Bhatnagar | C6: ROW | D6: COL
A7: Gaurav Khanna | C7: 1 | D7: 3 | E7: =INDEX($C$2:$I$3,C7,D7) -> Tuesday
A8: Asif Khan | C8: 2 | D8: 5 | E8: =INDEX($C$2:$I$3,C8,D8) -> May
A9: Ajaj Kumar Rana
A10: Aakash Bhutani | C10: Sunday | D10: Monday | E10: Tuesday | G10: Thursday | H10: Friday | I10: Saturday
A11: Praveen Sharma | C11: January | D11: February | E11: March | G11: May | H11: June | I11: July
A12: Ravi Ranjan
A13: Vivek Pant | D13: 1 | H13: 2
A14: Pallavi Srivastava
A15: Anoop Kumar Singh
G16: =INDEX((C10:E11,G10:I11),1,2,2) -> #ERROR!
A18: 5 | B18: {=INDEX(A2:A15,A18,1)} -> Kratika Bhatnagar
A19: 9 | B19: {=INDEX(A1:A15,A19,1)} -> Ajaj Kumar Rana

Sheet HelpDesk Data - 1
A1: Sl. No. | B1: Call Rec Date | C1: Call Resolved Date | D1: Customer Name | E1: Case ID | F1: City | G1: Contact No | H1: Mobile No | I1: Product | J1: Product No | K1: Model | L1: Serial No | M1: Call Status
A2: 1 | B2: 39845.415 | C2: 39864.713 | D2: ROHAN SINHA | E2: TIPL:OL:020109-1 | F2: PATNA | G2: 2904637 | H2: 9955999015 | I2: Laptop | J2: PTA83L-04902N | K2: Satellite Pro A120 | L2: 86134701H | M2: Close
A3: 2 | B3: 39845.651 | C3: 39856.682 | D3: Shibashish rodra | E3: TIPL:OL:020109-4 | F3: Delhi | G3: 41323297 | H3: 9999224900 | I3: Laptop | J3: PSL2XL-01R007 | K3: Satellite L20 | L3: 26090969W | M3: Close
A4: 3 | B4: 39845.871 | C4: 39857.72 | D4: Punit | E4: TIPL:OL:020109-9 | F4: Delhi | G4: 9818122220 | H4: 9818522220 | I4: Laptop | J4: PSLB9A-00L002 | K4: Satellite L300 | L4: Y8164930Q | M4: Close
A5: 4 | B5: 39846.349 | C5: 39863.768 | D5: Dr Arif | E5: TIPL:OL:020209-2 | F5: Lucknow | G5: 3019107 | H5: 9514018637 | I5: Laptop | J5: PSAA8L-1QU04M | K5: Satellite A100 | L5: Z6157544Q | M5: Close
A6: 5 | B6: 39846.417 | D6: TRILOK SINGH | E6: TIPL:OL:020209-3 | F6: INDORE | G6: 9752353537 | H6: 9752353537 | I6: Laptop | J6: PSL15E-00N02GBT | K6: Satellite Pro L10 | L6: 75024540W | M6: Open
A7: 6 | B7: 39846.43 | C7: 39846.748 | D7: Mohhamad Yusufi | E7: TIPL:OL:020209-4 | F7: Delhi | G7: 9910657065 | H7: 9910657174 | I7: Laptop | J7: PSME2G-00Q003 | K7: Satellite L310 | L7: 58259563W | M7: Close
A8: 7 | B8: 39846.539 | C8: 39853.65 | D8: Siraj | E8: TIPL:OL:020209-9 | F8: Banglore | G8: 41510762 | H8: 9008022633 | I8: Laptop | J8: PTA83L-04902N | K8: Satellite A120 | L8: 86137123H | M8: Close
A9: 8 | B9: 39846.554 | C9: 39847.495 | D9: Aujn Malik | E9: TIPL:OL:020209-11 | F9: Delhi | G9: 9899388000 | H9: 9873366660 | I9: Laptop | J9: PTA42U-0K601G | K9: Tecra A4 | L9: 16069918Q | M9: Close
A10: 9 | B10: 39846.559 | D10: Prabhu Nath | E10: TIPL:OL:020209-12 | F10: Lucknow | G10: 9415022405 | H10: 9415022405 | I10: Laptop | J10: PSME2G-00P003 | K10: Satellite L310 | L10: 48044362W | M10: Open
A11: 10 | B11: 39846.571 | C11: 39853.729 | D11: Mrs Bhatiya | E11: TIPL:OL:020209-13 | F11: delhi | G11: 41540600 | H11: 9899936084 | I11: Laptop | J11: PSME6G-00E002 | K11: Satellite L310 | L11: 98172144W | M11: Close
A12: 11 | B12: 39846.585 | D12: Mr Rameshwar | E12: TIPL:OL:020209-16 | F12: Pathankot | G12: 9417222004 | H12: 9417222004 | I12: Laptop | J12: PSME2G-00P003 | K12: Satellite L310 | L12: 58302505W | M12: Open
A13: 12 | B13: 39846.593 | C13: 39851.5 | D13: jitender singh | E13: TIPL:OL:020209-17 | F13: Gurdaspur | G13: 977945778 | H13: 9417222004 | I13: Laptop | J13: PSME2G-00P003 | K13: Satellite L310 | L13: 48313765W | M13: Close
A14: 13 | B14: 39846.606 | D14: Y. N GUPTA | E14: TIPL:OL:020209-19 | F14: GURGAON | G14: 9810010819 | H14: 9350846860 | I14: Laptop | J14: PSL2XL-01R007 | K14: Satellite L20 | L14: X5092012W | M14: Reject
A15: 14 | B15: 39846.627 | C15: 39865.751 | D15: Parth Singh Pundir | E15: TIPL:OL:020209-20 | F15: Dehradun | G15: 9760520000 | H15: 9760520000 | I15: Laptop | J15: PTA83L-08L02N | K15: Satellite Pro A120 | L15: Z6077032H | M15: Close
